BEGIN:VCALENDAR
VERSION:2.0
PRODID:-//https://www.outspokenentertainment.com///NONSGML kigkonsult.se iCalcreator 2.10.15//
METHOD:PUBLISH
BEGIN:VEVENT
UID:20260421T143449UTC-3624V3hEhu@https://www.outspokenentertainment.com/
DTSTAMP:20260421T143449Z
DESCRIPTION:Phone Number : (470) 238-8322 https://www.outspokenentertainmen
 t.com/events/event/113-johnnys-ny-style-pizza-buford
DTSTART;VALUE=DATE:20200618
LOCATION:Johnny's NY Style Pizza - Buford (4108 Hamilton Mill Rd \, Buford\
 , 30519)
SUMMARY:Johnny's NY Style Pizza - Buford
URL:https://www.outspokenentertainment.com/events/event/113-johnnys-ny-styl
 e-pizza-buford
END:VEVENT
END:VCALENDAR
