BEGIN:VCALENDAR
VERSION:2.0
PRODID:-//https://www.outspokenentertainment.com///NONSGML kigkonsult.se iCalcreator 2.10.15//
METHOD:PUBLISH
BEGIN:VEVENT
UID:20260421T144001UTC-93721rCo5r@https://www.outspokenentertainment.com/
DTSTAMP:20260421T144001Z
DESCRIPTION:Phone Number : (678) 214-8486 https://www.outspokenentertainmen
 t.com/events/event/108-johnnys-new-york-pizza-douglasville
DTSTART;VALUE=DATE:20200212
LOCATION:Johnny's New York Pizza - Douglasville (2911 Chapel Hill Rd\, Doug
 lasville\, 30135)
SUMMARY:Johnny's New York Pizza - Douglasville
URL:https://www.outspokenentertainment.com/events/event/108-johnnys-new-yor
 k-pizza-douglasville
END:VEVENT
END:VCALENDAR
