BEGIN:VCALENDAR
VERSION:2.0
PRODID:-//https://www.outspokenentertainment.com///NONSGML kigkonsult.se iCalcreator 2.10.15//
METHOD:PUBLISH
BEGIN:VEVENT
UID:20260422T115408UTC-3822Vdd2zG@https://www.outspokenentertainment.com/
DTSTAMP:20260422T115408Z
DESCRIPTION:Phone :&nbsp\;(770) 790-7886 https://www.outspokenentertainment
 .com/event/event/363-side-saddle-wine-saloon-bar---grant-park
DTSTART;VALUE=DATE:20251128
LOCATION:Side Saddle Wine Saloon & Bar – Grant Park (680 Hamilton Ave SE\, 
 Atlanta\, GA 30312)
SUMMARY:Side Saddle Wine Saloon & Bar – Grant Park
URL:https://www.outspokenentertainment.com/event/event/363-side-saddle-wine
 -saloon-bar---grant-park
END:VEVENT
END:VCALENDAR
