BEGIN:VCALENDAR
VERSION:2.0
PRODID:-//https://www.outspokenentertainment.com///NONSGML kigkonsult.se iCalcreator 2.10.15//
METHOD:PUBLISH
BEGIN:VEVENT
UID:20260421T114751UTC-4956fJ4BC1@https://www.outspokenentertainment.com/
DTSTAMP:20260421T114751Z
DESCRIPTION:Phone :&nbsp\;(678) 404-5076 https://www.outspokenentertainment
 .com/event/event/315-politan-row-peachtree-corners-at-the-forum
DTSTART;VALUE=DATE:20250127
LOCATION:Politan Row - Peachtree Corners at The Forum (5145 Peachtree Pkwy 
 STE 455\, Peachtree Corners\, GA 30092\, USA)
SUMMARY:Politan Row - Peachtree Corners at The Forum
URL:https://www.outspokenentertainment.com/event/event/315-politan-row-peac
 htree-corners-at-the-forum
END:VEVENT
END:VCALENDAR
