BEGIN:VCALENDAR
VERSION:2.0
PRODID:-//https://www.outspokenentertainment.com///NONSGML kigkonsult.se iCalcreator 2.10.15//
METHOD:PUBLISH
BEGIN:VEVENT
UID:20260421T115002UTC-7784Od39zW@https://www.outspokenentertainment.com/
DTSTAMP:20260421T115002Z
DESCRIPTION:Phone Number : (770) 836-1112 https://www.outspokenentertainmen
 t.com/event/event/27-fairfield-plantation-clubhouse-villa-rica
DTSTART;VALUE=DATE:20181208
LOCATION:Fairfield Plantation Clubhouse - Villa Rica (7500 Monticello Dr\, 
 Villa Rica\, 30180)
SUMMARY:Fairfield Plantation Clubhouse - Villa Rica
URL:https://www.outspokenentertainment.com/event/event/27-fairfield-plantat
 ion-clubhouse-villa-rica
END:VEVENT
END:VCALENDAR
