BEGIN:VCALENDAR
VERSION:2.0
PRODID:-//https://www.outspokenentertainment.com///NONSGML kigkonsult.se iCalcreator 2.10.15//
METHOD:PUBLISH
BEGIN:VEVENT
UID:20260421T124308UTC-9685FPMmXH@https://www.outspokenentertainment.com/
DTSTAMP:20260421T124308Z
DESCRIPTION:Phone number: (470) 299-8155 https://www.outspokenentertainment
 .com/event/event/263-politan-row-at-ashford-lane-dunwoody
DTSTART;VALUE=DATE:20240212
LOCATION:Politan Row at Ashford Lane (4550 Olde Perimeter Way\, Dunwoody\, 
 GA 30346\, USA)
SUMMARY:Politan Row at Ashford Lane - Dunwoody
URL:https://www.outspokenentertainment.com/event/event/263-politan-row-at-a
 shford-lane-dunwoody
END:VEVENT
END:VCALENDAR
