BEGIN:VCALENDAR
VERSION:2.0
PRODID:-//https://www.outspokenentertainment.com///NONSGML kigkonsult.se iCalcreator 2.10.15//
METHOD:PUBLISH
BEGIN:VEVENT
UID:20260422T114959UTC-0896rvXNsu@https://www.outspokenentertainment.com/
DTSTAMP:20260422T114959Z
DESCRIPTION:Phone Number : (770) 892-0143 https://www.outspokenentertainmen
 t.com/event/event/152-mesquite-mexican-grill-mcdonough
DTSTART;VALUE=DATE:20220304
LOCATION:Mesquite Mexican Grill - McDonough (902 Hwy 81  \, McDonough\, 302
 52)
SUMMARY:Mesquite Mexican Grill - McDonough
URL:https://www.outspokenentertainment.com/event/event/152-mesquite-mexican
 -grill-mcdonough
END:VEVENT
END:VCALENDAR
