BEGIN:VCALENDAR
VERSION:2.0
PRODID:-//https://www.outspokenentertainment.com///NONSGML kigkonsult.se iCalcreator 2.10.15//
METHOD:PUBLISH
BEGIN:VEVENT
UID:20260421T114545UTC-2358FlBuC2@https://www.outspokenentertainment.com/
DTSTAMP:20260421T114545Z
DESCRIPTION:Phone number: (770) 696-5246 https://www.outspokenentertainment
 .com/event/event/119-outrun-brewing-stone-mountain
DTSTART;VALUE=DATE:20200930
LOCATION:Outrun Brewing - Stone Mountain (5368 E Mountain St\, Stone Mounta
 in\, 30083)
SUMMARY:Outrun Brewing - Stone Mountain
URL:https://www.outspokenentertainment.com/event/event/119-outrun-brewing-s
 tone-mountain
END:VEVENT
END:VCALENDAR
